Workbook

Sheet Greens Area
A1: How to use this: | B1: Step 1: Enter information about your areas below
B2: Step 2: Enter your clipping volume in Liters in the tab that says "Data". Make sure you scroll down to the correct date. If you don't collect clippings on a particular day, you don't need to enter a zero - just don't enter anything.
A4: Hole/Area | B4: CustomArea1 | C4: CustomArea2 | D4: CustomArea3 | E4: 1 | F4: 2 | G4: 3 | H4: 4 | I4: 5 | J4: 6 | K4: 7 | L4: 8 | M4: 9 | N4: 10 | O4: 11 | P4: 12 | Q4: 13 | R4: 14 | S4: 15 | T4: 16 | U4: 17 | V4: 18
A5: Thousand Square Feet | B5: 3.3 | C5: 8.2 | D5: 10 | E5: 4.49 | F5: 3.74 | G5: 7.06 | H5: 5.55 | I5: 7.64 | J5: 9.94 | K5: 10.72 | L5: 7.91 | M5: 5.4 | N5: 4.81 | O5: 4.53 | P5: 4.1 | Q5: 7.15 | R5: 7.35 | S5: 5.3 | T5: 5.71 | U5: 6.81 | V5: 1
A9: Assumptions
A10: Volume to weight conversion value | B10: 0.63
A11: Percent Tissue Nitrogen | B11: 4
A14: Notes on Assumptions:
A15: The B10 cell can be changed to better approximate how you are compacting your clippings in the bucket. Woods method is default value
A16: 0.42 | B16: Kreuser method of no compaction of clippings
A17: 0.63 | B17: Woods method of compatcion (two firm taps of the bucket)
A18: 0.76 | B18: Soldat method of compacting clippings as much as possible
A20: 4% Tissue N | B20: If you don't have tissue N data, 4% is the default value. If you do have tissue data, change the B11 cell to whatever that average is
A23: Spreadsheet built by Doug Soldat, Madison, WI on 2 April 2018
A24: Modified 26 January 2021
A25: email me for help djsoldat@wisc.edu

Sheet Data
A1: Enter the Liters collected from each area in the cells below
A2: Date | B2: Hole/Area #
B3: CustArea1 | C3: CustArea2 | D3: CustArea3 | E3: 1 | F3: 2 | G3: 3 | H3: 4 | I3: 5 | J3: 6 | K3: 7 | L3: 8 | M3: 9 | N3: 10 | O3: 11 | P3: 12 | Q3: 13 | R3: 14 | S3: 15 | T3: 16 | U3: 17 | V3: 18 | W3: average | X3: stdev
A4: 44197 | W4: =AVERAGE(E4:V4) -> #DIV/0! | X4: =STDEV(E4:V4) -> #DIV/0!
A5: 44198 | W5: =AVERAGE(E5:V5) -> #DIV/0! | X5: =STDEV(E5:V5) -> #DIV/0!
A6: 44199 | W6: =AVERAGE(E6:V6) -> #DIV/0! | X6: =STDEV(E6:V6) -> #DIV/0!
A7: 44200 | W7: =AVERAGE(E7:V7) -> #DIV/0! | X7: =STDEV(E7:V7) -> #DIV/0!
A8: 44201 | W8: =AVERAGE(E8:V8) -> #DIV/0! | X8: =STDEV(E8:V8) -> #DIV/0!
A9: 44202 | W9: =AVERAGE(E9:V9) -> #DIV/0! | X9: =STDEV(E9:V9) -> #DIV/0!
A10: 44203 | W10: =AVERAGE(E10:V10) -> #DIV/0! | X10: =STDEV(E10:V10) -> #DIV/0!
A11: 44204 | W11: =AVERAGE(E11:V11) -> #DIV/0! | X11: =STDEV(E11:V11) -> #DIV/0!
A12: 44205 | W12: =AVERAGE(E12:V12) -> #DIV/0! | X12: =STDEV(E12:V12) -> #DIV/0!
A13: 44206 | W13: =AVERAGE(E13:V13) -> #DIV/0! | X13: =STDEV(E13:V13) -> #DIV/0!
A14: 44207 | W14: =AVERAGE(E14:V14) -> #DIV/0! | X14: =STDEV(E14:V14) -> #DIV/0!
A15: 44208 | W15: =AVERAGE(E15:V15) -> #DIV/0! | X15: =STDEV(E15:V15) -> #DIV/0!
... A368: 44561 | W368: =AVERAGE(E368:V368) -> #DIV/0! | X368: =STDEV(E368:V368) -> #DIV/0!

Sheet calculations
B1: Date | C1: Hole/Area #
C2: CustArea1 | D2: CustArea2 | E2: CustArea3 | F2: 1 | G2: 2 | H2: 3 | I2: 4 | J2: 5 | K2: 6 | L2: 7 | M2: 8 | N2: 9 | O2: 10 | P2: 11 | Q2: 12 | R2: 13 | S2: 14 | T2: 15 | U2: 16 | V2: 17 | W2: 18 | X2: average | Y2: stdev
A3: L/100m2 | B3: 44197 | C3: =(Data!B4/'Greens Area'!B$5)*0.929 -> 0 | D3: =(Data!C4/'Greens Area'!C$5)*0.929 -> 0 | E3: =(Data!D4/'Greens Area'!D$5)*0.929 -> 0 | F3: =(Data!E4/'Greens Area'!E$5)*0.929 -> 0 | G3: =(Data!F4/'Greens Area'!F$5)*0.929 -> 0 | H3: =(Data!G4/'Greens Area'!G$5)*0.929 -> 0 | I3: =(Data!H4/'Greens Area'!H$5)*0.929 -> 0 | J3: =(Data!I4/'Greens Area'!I$5)*0.929 -> 0 | ... W3: =(Data!V4/'Greens Area'!V$5)*0.929 -> 0 | X3: =AVERAGE(C3:W3) -> 0 | Y3: =STDEV(C3:W3) -> 0
B4: 44198 | C4: =(Data!B5/'Greens Area'!B$5)*0.929 -> 0 | D4: =(Data!C5/'Greens Area'!C$5)*0.929 -> 0 | E4: =(Data!D5/'Greens Area'!D$5)*0.929 -> 0 | F4: =(Data!E5/'Greens Area'!E$5)*0.929 -> 0 | G4: =(Data!F5/'Greens Area'!F$5)*0.929 -> 0 | H4: =(Data!G5/'Greens Area'!G$5)*0.929 -> 0 | I4: =(Data!H5/'Greens Area'!H$5)*0.929 -> 0 | J4: =(Data!I5/'Greens Area'!I$5)*0.929 -> 0 | ... W4: =(Data!V5/'Greens Area'!V$5)*0.929 -> 0 | X4: =AVERAGE(C4:W4) -> 0 | Y4: =STDEV(C4:W4) -> 0
B5: 44199 | C5: =(Data!B6/'Greens Area'!B$5)*0.929 -> 0 | D5: =(Data!C6/'Greens Area'!C$5)*0.929 -> 0 | E5: =(Data!D6/'Greens Area'!D$5)*0.929 -> 0 | F5: =(Data!E6/'Greens Area'!E$5)*0.929 -> 0 | G5: =(Data!F6/'Greens Area'!F$5)*0.929 -> 0 | H5: =(Data!G6/'Greens Area'!G$5)*0.929 -> 0 | I5: =(Data!H6/'Greens Area'!H$5)*0.929 -> 0 | J5: =(Data!I6/'Greens Area'!I$5)*0.929 -> 0 | ... W5: =(Data!V6/'Greens Area'!V$5)*0.929 -> 0 | X5: =AVERAGE(C5:W5) -> 0 | Y5: =STDEV(C5:W5) -> 0
B6: 44200 | C6: =(Data!B7/'Greens Area'!B$5)*0.929 -> 0 | D6: =(Data!C7/'Greens Area'!C$5)*0.929 -> 0 | E6: =(Data!D7/'Greens Area'!D$5)*0.929 -> 0 | F6: =(Data!E7/'Greens Area'!E$5)*0.929 -> 0 | G6: =(Data!F7/'Greens Area'!F$5)*0.929 -> 0 | H6: =(Data!G7/'Greens Area'!G$5)*0.929 -> 0 | I6: =(Data!H7/'Greens Area'!H$5)*0.929 -> 0 | J6: =(Data!I7/'Greens Area'!I$5)*0.929 -> 0 | ... W6: =(Data!V7/'Greens Area'!V$5)*0.929 -> 0 | X6: =AVERAGE(C6:W6) -> 0 | Y6: =STDEV(C6:W6) -> 0
B7: 44201 | C7: =(Data!B8/'Greens Area'!B$5)*0.929 -> 0 | D7: =(Data!C8/'Greens Area'!C$5)*0.929 -> 0 | E7: =(Data!D8/'Greens Area'!D$5)*0.929 -> 0 | F7: =(Data!E8/'Greens Area'!E$5)*0.929 -> 0 | G7: =(Data!F8/'Greens Area'!F$5)*0.929 -> 0 | H7: =(Data!G8/'Greens Area'!G$5)*0.929 -> 0 | I7: =(Data!H8/'Greens Area'!H$5)*0.929 -> 0 | J7: =(Data!I8/'Greens Area'!I$5)*0.929 -> 0 | ... W7: =(Data!V8/'Greens Area'!V$5)*0.929 -> 0 | X7: =AVERAGE(C7:W7) -> 0 | Y7: =STDEV(C7:W7) -> 0
B8: 44202 | C8: =(Data!B9/'Greens Area'!B$5)*0.929 -> 0 | D8: =(Data!C9/'Greens Area'!C$5)*0.929 -> 0 | E8: =(Data!D9/'Greens Area'!D$5)*0.929 -> 0 | F8: =(Data!E9/'Greens Area'!E$5)*0.929 -> 0 | G8: =(Data!F9/'Greens Area'!F$5)*0.929 -> 0 | H8: =(Data!G9/'Greens Area'!G$5)*0.929 -> 0 | I8: =(Data!H9/'Greens Area'!H$5)*0.929 -> 0 | J8: =(Data!I9/'Greens Area'!I$5)*0.929 -> 0 | ... W8: =(Data!V9/'Greens Area'!V$5)*0.929 -> 0 | X8: =AVERAGE(C8:W8) -> 0 | Y8: =STDEV(C8:W8) -> 0
B9: 44203 | C9: =(Data!B10/'Greens Area'!B$5)*0.929 -> 0 | D9: =(Data!C10/'Greens Area'!C$5)*0.929 -> 0 | E9: =(Data!D10/'Greens Area'!D$5)*0.929 -> 0 | F9: =(Data!E10/'Greens Area'!E$5)*0.929 -> 0 | G9: =(Data!F10/'Greens Area'!F$5)*0.929 -> 0 | H9: =(Data!G10/'Greens Area'!G$5)*0.929 -> 0 | I9: =(Data!H10/'Greens Area'!H$5)*0.929 -> 0 | J9: =(Data!I10/'Greens Area'!I$5)*0.929 -> 0 | ... W9: =(Data!V10/'Greens Area'!V$5)*0.929 -> 0 | X9: =AVERAGE(C9:W9) -> 0 | Y9: =STDEV(C9:W9) -> 0
B10: 44204 | C10: =(Data!B11/'Greens Area'!B$5)*0.929 -> 0 | D10: =(Data!C11/'Greens Area'!C$5)*0.929 -> 0 | E10: =(Data!D11/'Greens Area'!D$5)*0.929 -> 0 | F10: =(Data!E11/'Greens Area'!E$5)*0.929 -> 0 | G10: =(Data!F11/'Greens Area'!F$5)*0.929 -> 0 | H10: =(Data!G11/'Greens Area'!G$5)*0.929 -> 0 | I10: =(Data!H11/'Greens Area'!H$5)*0.929 -> 0 | J10: =(Data!I11/'Greens Area'!I$5)*0.929 -> 0 | ... W10: =(Data!V11/'Greens Area'!V$5)*0.929 -> 0 | X10: =AVERAGE(C10:W10) -> 0 | Y10: =STDEV(C10:W10) -> 0
B11: 44205 | C11: =(Data!B12/'Greens Area'!B$5)*0.929 -> 0 | D11: =(Data!C12/'Greens Area'!C$5)*0.929 -> 0 | E11: =(Data!D12/'Greens Area'!D$5)*0.929 -> 0 | F11: =(Data!E12/'Greens Area'!E$5)*0.929 -> 0 | G11: =(Data!F12/'Greens Area'!F$5)*0.929 -> 0 | H11: =(Data!G12/'Greens Area'!G$5)*0.929 -> 0 | I11: =(Data!H12/'Greens Area'!H$5)*0.929 -> 0 | J11: =(Data!I12/'Greens Area'!I$5)*0.929 -> 0 | ... W11: =(Data!V12/'Greens Area'!V$5)*0.929 -> 0 | X11: =AVERAGE(C11:W11) -> 0 | Y11: =STDEV(C11:W11) -> 0
B12: 44206 | C12: =(Data!B13/'Greens Area'!B$5)*0.929 -> 0 | D12: =(Data!C13/'Greens Area'!C$5)*0.929 -> 0 | E12: =(Data!D13/'Greens Area'!D$5)*0.929 -> 0 | F12: =(Data!E13/'Greens Area'!E$5)*0.929 -> 0 | G12: =(Data!F13/'Greens Area'!F$5)*0.929 -> 0 | H12: =(Data!G13/'Greens Area'!G$5)*0.929 -> 0 | I12: =(Data!H13/'Greens Area'!H$5)*0.929 -> 0 | J12: =(Data!I13/'Greens Area'!I$5)*0.929 -> 0 | ... W12: =(Data!V13/'Greens Area'!V$5)*0.929 -> 0 | X12: =AVERAGE(C12:W12) -> 0 | Y12: =STDEV(C12:W12) -> 0
B13: 44207 | C13: =(Data!B14/'Greens Area'!B$5)*0.929 -> 0 | D13: =(Data!C14/'Greens Area'!C$5)*0.929 -> 0 | E13: =(Data!D14/'Greens Area'!D$5)*0.929 -> 0 | F13: =(Data!E14/'Greens Area'!E$5)*0.929 -> 0 | G13: =(Data!F14/'Greens Area'!F$5)*0.929 -> 0 | H13: =(Data!G14/'Greens Area'!G$5)*0.929 -> 0 | I13: =(Data!H14/'Greens Area'!H$5)*0.929 -> 0 | J13: =(Data!I14/'Greens Area'!I$5)*0.929 -> 0 | ... W13: =(Data!V14/'Greens Area'!V$5)*0.929 -> 0 | X13: =AVERAGE(C13:W13) -> 0 | Y13: =STDEV(C13:W13) -> 0
B14: 44208 | C14: =(Data!B15/'Greens Area'!B$5)*0.929 -> 0 | D14: =(Data!C15/'Greens Area'!C$5)*0.929 -> 0 | E14: =(Data!D15/'Greens Area'!D$5)*0.929 -> 0 | F14: =(Data!E15/'Greens Area'!E$5)*0.929 -> 0 | G14: =(Data!F15/'Greens Area'!F$5)*0.929 -> 0 | H14: =(Data!G15/'Greens Area'!G$5)*0.929 -> 0 | I14: =(Data!H15/'Greens Area'!H$5)*0.929 -> 0 | J14: =(Data!I15/'Greens Area'!I$5)*0.929 -> 0 | ... W14: =(Data!V15/'Greens Area'!V$5)*0.929 -> 0 | X14: =AVERAGE(C14:W14) -> 0 | Y14: =STDEV(C14:W14) -> 0
B15: 44209 | C15: =(Data!B16/'Greens Area'!B$5)*0.929 -> 0 | D15: =(Data!C16/'Greens Area'!C$5)*0.929 -> 0 | E15: =(Data!D16/'Greens Area'!D$5)*0.929 -> 0 | F15: =(Data!E16/'Greens Area'!E$5)*0.929 -> 0 | G15: =(Data!F16/'Greens Area'!F$5)*0.929 -> 0 | H15: =(Data!G16/'Greens Area'!G$5)*0.929 -> 0 | I15: =(Data!H16/'Greens Area'!H$5)*0.929 -> 0 | J15: =(Data!I16/'Greens Area'!I$5)*0.929 -> 0 | ... W15: =(Data!V16/'Greens Area'!V$5)*0.929 -> 0 | X15: =AVERAGE(C15:W15) -> 0 | Y15: =STDEV(C15:W15) -> 0
... B367: 44561 | C367: =(Data!B368/'Greens Area'!B$5)*0.929 -> 0 | D367: =(Data!C368/'Greens Area'!C$5)*0.929 -> 0 | E367: =(Data!D368/'Greens Area'!D$5)*0.929 -> 0 | F367: =(Data!E368/'Greens Area'!E$5)*0.929 -> 0 | G367: =(Data!F368/'Greens Area'!F$5)*0.929 -> 0 | H367: =(Data!G368/'Greens Area'!G$5)*0.929 -> 0 | I367: =(Data!H368/'Greens Area'!H$5)*0.929 -> 0 | J367: =(Data!I368/'Greens Area'!I$5)*0.929 -> 0 | ... W367: =(Data!V368/'Greens Area'!V$5)*0.929 -> 0 | X367: =AVERAGE(C367:W367) -> 0 | Y367: =STDEV(C367:W367) -> 0
B369: N REMOVAL CALCULATIONS
C371: CustArea1 | D371: CustArea2 | E371: CustArea3 | F371: 1 | G371: 2 | H371: 3 | I371: 4 | J371: 5 | K371: 6 | L371: 7 | M371: 8 | N371: 9 | O371: 10 | P371: 11 | Q371: 12 | R371: 13 | S371: 14 | T371: 15 | U371: 16 | V371: 17 | W371: 18 | X371: average | Y371: stdev | Z371: cumulative N removal
B372: 44197 | C372: =((C3*'Greens Area'!$B$10)/454)*0.926*'Greens Area'!$B$11 -> 0 | D372: =((D3*'Greens Area'!$B$10)/454)*0.926*'Greens Area'!$B$11 -> 0 | E372: =((E3*'Greens Area'!$B$10)/454)*0.926*'Greens Area'!$B$11 -> 0 | F372: =((F3*'Greens Area'!$B$10)/454)*0.926*'Greens Area'!$B$11 -> 0 | G372: =((G3*'Greens Area'!$B$10)/454)*0.926*'Greens Area'!$B$11 -> 0 | H372: =((H3*'Greens Area'!$B$10)/454)*0.926*'Greens Area'!$B$11 -> 0 | I372: =((I3*'Greens Area'!$B$10)/454)*0.926*'Greens Area'!$B$11 -> 0 | J372: =((J3*'Greens Area'!$B$10)/454)*0.926*'Greens Area'!$B$11 -> 0 | ... W372: =((W3*'Greens Area'!$B$10)/454)*0.926*'Greens Area'!$B$11 -> 0 | X372: =AVERAGE(C372:W372) -> 0 | Y372: =STDEV(C372:W372) -> 0
B373: 44198 | C373: =((C4*'Greens Area'!$B$10)/454)*0.926*'Greens Area'!$B$11 -> 0 | D373: =((D4*'Greens Area'!$B$10)/454)*0.926*'Greens Area'!$B$11 -> 0 | E373: =((E4*'Greens Area'!$B$10)/454)*0.926*'Greens Area'!$B$11 -> 0 | F373: =((F4*'Greens Area'!$B$10)/454)*0.926*'Greens Area'!$B$11 -> 0 | G373: =((G4*'Greens Area'!$B$10)/454)*0.926*'Greens Area'!$B$11 -> 0 | H373: =((H4*'Greens Area'!$B$10)/454)*0.926*'Greens Area'!$B$11 -> 0 | I373: =((I4*'Greens Area'!$B$10)/454)*0.926*'Greens Area'!$B$11 -> 0 | J373: =((J4*'Greens Area'!$B$10)/454)*0.926*'Greens Area'!$B$11 -> 0 | ... W373: =((W4*'Greens Area'!$B$10)/454)*0.926*'Greens Area'!$B$11 -> 0 | X373: =AVERAGE(C373:W373) -> 0 | Y373: =STDEV(C373:W373) -> 0 | Z373: =X373+Z372 -> 0
B374: 44199 | C374: =((C5*'Greens Area'!$B$10)/454)*0.926*'Greens Area'!$B$11 -> 0 | D374: =((D5*'Greens Area'!$B$10)/454)*0.926*'Greens Area'!$B$11 -> 0 | E374: =((E5*'Greens Area'!$B$10)/454)*0.926*'Greens Area'!$B$11 -> 0 | F374: =((F5*'Greens Area'!$B$10)/454)*0.926*'Greens Area'!$B$11 -> 0 | G374: =((G5*'Greens Area'!$B$10)/454)*0.926*'Greens Area'!$B$11 -> 0 | H374: =((H5*'Greens Area'!$B$10)/454)*0.926*'Greens Area'!$B$11 -> 0 | I374: =((I5*'Greens Area'!$B$10)/454)*0.926*'Greens Area'!$B$11 -> 0 | J374: =((J5*'Greens Area'!$B$10)/454)*0.926*'Greens Area'!$B$11 -> 0 | ... W374: =((W5*'Greens Area'!$B$10)/454)*0.926*'Greens Area'!$B$11 -> 0 | X374: =AVERAGE(C374:W374) -> 0 | Y374: =STDEV(C374:W374) -> 0 | Z374: =X374+Z373 -> 0
B375: 44200 | C375: =((C6*'Greens Area'!$B$10)/454)*0.926*'Greens Area'!$B$11 -> 0 | D375: =((D6*'Greens Area'!$B$10)/454)*0.926*'Greens Area'!$B$11 -> 0 | E375: =((E6*'Greens Area'!$B$10)/454)*0.926*'Greens Area'!$B$11 -> 0 | F375: =((F6*'Greens Area'!$B$10)/454)*0.926*'Greens Area'!$B$11 -> 0 | G375: =((G6*'Greens Area'!$B$10)/454)*0.926*'Greens Area'!$B$11 -> 0 | H375: =((H6*'Greens Area'!$B$10)/454)*0.926*'Greens Area'!$B$11 -> 0 | I375: =((I6*'Greens Area'!$B$10)/454)*0.926*'Greens Area'!$B$11 -> 0 | J375: =((J6*'Greens Area'!$B$10)/454)*0.926*'Greens Area'!$B$11 -> 0 | ... W375: =((W6*'Greens Area'!$B$10)/454)*0.926*'Greens Area'!$B$11 -> 0 | X375: =AVERAGE(C375:W375) -> 0 | Y375: =STDEV(C375:W375) -> 0 | Z375: =X375+Z374 -> 0
B376: 44201 | C376: =((C7*'Greens Area'!$B$10)/454)*0.926*'Greens Area'!$B$11 -> 0 | D376: =((D7*'Greens Area'!$B$10)/454)*0.926*'Greens Area'!$B$11 -> 0 | E376: =((E7*'Greens Area'!$B$10)/454)*0.926*'Greens Area'!$B$11 -> 0 | F376: =((F7*'Greens Area'!$B$10)/454)*0.926*'Greens Area'!$B$11 -> 0 | G376: =((G7*'Greens Area'!$B$10)/454)*0.926*'Greens Area'!$B$11 -> 0 | H376: =((H7*'Greens Area'!$B$10)/454)*0.926*'Greens Area'!$B$11 -> 0 | I376: =((I7*'Greens Area'!$B$10)/454)*0.926*'Greens Area'!$B$11 -> 0 | J376: =((J7*'Greens Area'!$B$10)/454)*0.926*'Greens Area'!$B$11 -> 0 | ... W376: =((W7*'Greens Area'!$B$10)/454)*0.926*'Greens Area'!$B$11 -> 0 | X376: =AVERAGE(C376:W376) -> 0 | Y376: =STDEV(C376:W376) -> 0 | Z376: =X376+Z375 -> 0
B377: 44202 | C377: =((C8*'Greens Area'!$B$10)/454)*0.926*'Greens Area'!$B$11 -> 0 | D377: =((D8*'Greens Area'!$B$10)/454)*0.926*'Greens Area'!$B$11 -> 0 | E377: =((E8*'Greens Area'!$B$10)/454)*0.926*'Greens Area'!$B$11 -> 0 | F377: =((F8*'Greens Area'!$B$10)/454)*0.926*'Greens Area'!$B$11 -> 0 | G377: =((G8*'Greens Area'!$B$10)/454)*0.926*'Greens Area'!$B$11 -> 0 | H377: =((H8*'Greens Area'!$B$10)/454)*0.926*'Greens Area'!$B$11 -> 0 | I377: =((I8*'Greens Area'!$B$10)/454)*0.926*'Greens Area'!$B$11 -> 0 | J377: =((J8*'Greens Area'!$B$10)/454)*0.926*'Greens Area'!$B$11 -> 0 | ... W377: =((W8*'Greens Area'!$B$10)/454)*0.926*'Greens Area'!$B$11 -> 0 | X377: =AVERAGE(C377:W377) -> 0 | Y377: =STDEV(C377:W377) -> 0 | Z377: =X377+Z376 -> 0
B378: 44203 | C378: =((C9*'Greens Area'!$B$10)/454)*0.926*'Greens Area'!$B$11 -> 0 | D378: =((D9*'Greens Area'!$B$10)/454)*0.926*'Greens Area'!$B$11 -> 0 | E378: =((E9*'Greens Area'!$B$10)/454)*0.926*'Greens Area'!$B$11 -> 0 | F378: =((F9*'Greens Area'!$B$10)/454)*0.926*'Greens Area'!$B$11 -> 0 | G378: =((G9*'Greens Area'!$B$10)/454)*0.926*'Greens Area'!$B$11 -> 0 | H378: =((H9*'Greens Area'!$B$10)/454)*0.926*'Greens Area'!$B$11 -> 0 | I378: =((I9*'Greens Area'!$B$10)/454)*0.926*'Greens Area'!$B$11 -> 0 | J378: =((J9*'Greens Area'!$B$10)/454)*0.926*'Greens Area'!$B$11 -> 0 | ... W378: =((W9*'Greens Area'!$B$10)/454)*0.926*'Greens Area'!$B$11 -> 0 | X378: =AVERAGE(C378:W378) -> 0 | Y378: =STDEV(C378:W378) -> 0 | Z378: =X378+Z377 -> 0
B379: 44204 | C379: =((C10*'Greens Area'!$B$10)/454)*0.926*'Greens Area'!$B$11 -> 0 | D379: =((D10*'Greens Area'!$B$10)/454)*0.926*'Greens Area'!$B$11 -> 0 | E379: =((E10*'Greens Area'!$B$10)/454)*0.926*'Greens Area'!$B$11 -> 0 | F379: =((F10*'Greens Area'!$B$10)/454)*0.926*'Greens Area'!$B$11 -> 0 | G379: =((G10*'Greens Area'!$B$10)/454)*0.926*'Greens Area'!$B$11 -> 0 | H379: =((H10*'Greens Area'!$B$10)/454)*0.926*'Greens Area'!$B$11 -> 0 | I379: =((I10*'Greens Area'!$B$10)/454)*0.926*'Greens Area'!$B$11 -> 0 | J379: =((J10*'Greens Area'!$B$10)/454)*0.926*'Greens Area'!$B$11 -> 0 | ... W379: =((W10*'Greens Area'!$B$10)/454)*0.926*'Greens Area'!$B$11 -> 0 | X379: =AVERAGE(C379:W379) -> 0 | Y379: =STDEV(C379:W379) -> 0 | Z379: =X379+Z378 -> 0
B380: 44205 | C380: =((C11*'Greens Area'!$B$10)/454)*0.926*'Greens Area'!$B$11 -> 0 | D380: =((D11*'Greens Area'!$B$10)/454)*0.926*'Greens Area'!$B$11 -> 0 | E380: =((E11*'Greens Area'!$B$10)/454)*0.926*'Greens Area'!$B$11 -> 0 | F380: =((F11*'Greens Area'!$B$10)/454)*0.926*'Greens Area'!$B$11 -> 0 | G380: =((G11*'Greens Area'!$B$10)/454)*0.926*'Greens Area'!$B$11 -> 0 | H380: =((H11*'Greens Area'!$B$10)/454)*0.926*'Greens Area'!$B$11 -> 0 | I380: =((I11*'Greens Area'!$B$10)/454)*0.926*'Greens Area'!$B$11 -> 0 | J380: =((J11*'Greens Area'!$B$10)/454)*0.926*'Greens Area'!$B$11 -> 0 | ... W380: =((W11*'Greens Area'!$B$10)/454)*0.926*'Greens Area'!$B$11 -> 0 | X380: =AVERAGE(C380:W380) -> 0 | Y380: =STDEV(C380:W380) -> 0 | Z380: =X380+Z379 -> 0
B381: 44206 | C381: =((C12*'Greens Area'!$B$10)/454)*0.926*'Greens Area'!$B$11 -> 0 | D381: =((D12*'Greens Area'!$B$10)/454)*0.926*'Greens Area'!$B$11 -> 0 | E381: =((E12*'Greens Area'!$B$10)/454)*0.926*'Greens Area'!$B$11 -> 0 | F381: =((F12*'Greens Area'!$B$10)/454)*0.926*'Greens Area'!$B$11 -> 0 | G381: =((G12*'Greens Area'!$B$10)/454)*0.926*'Greens Area'!$B$11 -> 0 | H381: =((H12*'Greens Area'!$B$10)/454)*0.926*'Greens Area'!$B$11 -> 0 | I381: =((I12*'Greens Area'!$B$10)/454)*0.926*'Greens Area'!$B$11 -> 0 | J381: =((J12*'Greens Area'!$B$10)/454)*0.926*'Greens Area'!$B$11 -> 0 | ... W381: =((W12*'Greens Area'!$B$10)/454)*0.926*'Greens Area'!$B$11 -> 0 | X381: =AVERAGE(C381:W381) -> 0 | Y381: =STDEV(C381:W381) -> 0 | Z381: =X381+Z380 -> 0
B382: 44207 | C382: =((C13*'Greens Area'!$B$10)/454)*0.926*'Greens Area'!$B$11 -> 0 | D382: =((D13*'Greens Area'!$B$10)/454)*0.926*'Greens Area'!$B$11 -> 0 | E382: =((E13*'Greens Area'!$B$10)/454)*0.926*'Greens Area'!$B$11 -> 0 | F382: =((F13*'Greens Area'!$B$10)/454)*0.926*'Greens Area'!$B$11 -> 0 | G382: =((G13*'Greens Area'!$B$10)/454)*0.926*'Greens Area'!$B$11 -> 0 | H382: =((H13*'Greens Area'!$B$10)/454)*0.926*'Greens Area'!$B$11 -> 0 | I382: =((I13*'Greens Area'!$B$10)/454)*0.926*'Greens Area'!$B$11 -> 0 | J382: =((J13*'Greens Area'!$B$10)/454)*0.926*'Greens Area'!$B$11 -> 0 | ... W382: =((W13*'Greens Area'!$B$10)/454)*0.926*'Greens Area'!$B$11 -> 0 | X382: =AVERAGE(C382:W382) -> 0 | Y382: =STDEV(C382:W382) -> 0 | Z382: =X382+Z381 -> 0
B383: 44208 | C383: =((C14*'Greens Area'!$B$10)/454)*0.926*'Greens Area'!$B$11 -> 0 | D383: =((D14*'Greens Area'!$B$10)/454)*0.926*'Greens Area'!$B$11 -> 0 | E383: =((E14*'Greens Area'!$B$10)/454)*0.926*'Greens Area'!$B$11 -> 0 | F383: =((F14*'Greens Area'!$B$10)/454)*0.926*'Greens Area'!$B$11 -> 0 | G383: =((G14*'Greens Area'!$B$10)/454)*0.926*'Greens Area'!$B$11 -> 0 | H383: =((H14*'Greens Area'!$B$10)/454)*0.926*'Greens Area'!$B$11 -> 0 | I383: =((I14*'Greens Area'!$B$10)/454)*0.926*'Greens Area'!$B$11 -> 0 | J383: =((J14*'Greens Area'!$B$10)/454)*0.926*'Greens Area'!$B$11 -> 0 | ... W383: =((W14*'Greens Area'!$B$10)/454)*0.926*'Greens Area'!$B$11 -> 0 | X383: =AVERAGE(C383:W383) -> 0 | Y383: =STDEV(C383:W383) -> 0 | Z383: =X383+Z382 -> 0
B384: 44209 | C384: =((C15*'Greens Area'!$B$10)/454)*0.926*'Greens Area'!$B$11 -> 0 | D384: =((D15*'Greens Area'!$B$10)/454)*0.926*'Greens Area'!$B$11 -> 0 | E384: =((E15*'Greens Area'!$B$10)/454)*0.926*'Greens Area'!$B$11 -> 0 | F384: =((F15*'Greens Area'!$B$10)/454)*0.926*'Greens Area'!$B$11 -> 0 | G384: =((G15*'Greens Area'!$B$10)/454)*0.926*'Greens Area'!$B$11 -> 0 | H384: =((H15*'Greens Area'!$B$10)/454)*0.926*'Greens Area'!$B$11 -> 0 | I384: =((I15*'Greens Area'!$B$10)/454)*0.926*'Greens Area'!$B$11 -> 0 | J384: =((J15*'Greens Area'!$B$10)/454)*0.926*'Greens Area'!$B$11 -> 0 | ... W384: =((W15*'Greens Area'!$B$10)/454)*0.926*'Greens Area'!$B$11 -> 0 | X384: =AVERAGE(C384:W384) -> 0 | Y384: =STDEV(C384:W384) -> 0 | Z384: =X384+Z383 -> 0
... B736: 44561 | C736: =((C367*'Greens Area'!$B$10)/454)*0.926*'Greens Area'!$B$11 -> 0 | D736: =((D367*'Greens Area'!$B$10)/454)*0.926*'Greens Area'!$B$11 -> 0 | E736: =((E367*'Greens Area'!$B$10)/454)*0.926*'Greens Area'!$B$11 -> 0 | F736: =((F367*'Greens Area'!$B$10)/454)*0.926*'Greens Area'!$B$11 -> 0 | G736: =((G367*'Greens Area'!$B$10)/454)*0.926*'Greens Area'!$B$11 -> 0 | H736: =((H367*'Greens Area'!$B$10)/454)*0.926*'Greens Area'!$B$11 -> 0 | I736: =((I367*'Greens Area'!$B$10)/454)*0.926*'Greens Area'!$B$11 -> 0 | J736: =((J367*'Greens Area'!$B$10)/454)*0.926*'Greens Area'!$B$11 -> 0 | ... W736: =((W367*'Greens Area'!$B$10)/454)*0.926*'Greens Area'!$B$11 -> 0 | X736: =AVERAGE(C736:W736) -> 0 | Y736: =STDEV(C736:W736) -> 0 | Z736: =X736+Z735 -> 0
